BEGIN:VCALENDAR
VERSION:2.0
PRODID:-//Tukios.com/
BEGIN:VEVENT
UID:5726ed26-82d4-4b9c-b940-b1c0f571d7a4@www.rishermortuary.com
DTSTAMP:20260423T005513Z
DTSTART:20260501T181500Z
DTEND:20260501T191500Z
SUMMARY:Visitation
DESCRIPTION:
URL:https://www.rishermortuary.com/obituaries/joseph-gonzales
LOCATION:St. Marcellinus Church 2349 Strong Avenue  Commerce CA 90040
GEO:34.00424;-118.1632564
END:VEVENT
END:VCALENDAR