BEGIN:VCALENDAR
VERSION:2.0
PRODID:-//Tukios.com/
BEGIN:VEVENT
UID:11b7597a-7d87-45ff-a012-422c31a94aa6@www.rishermortuary.com
DTSTAMP:20260423T005703Z
DTSTART:20260501T190000Z
DTEND:20260501T200000Z
SUMMARY:Mass
DESCRIPTION:
URL:https://www.rishermortuary.com/obituaries/joseph-gonzales
LOCATION: 2349 Strong Avenue  Commerce CA 90040
GEO:34.0042298;-118.1632559
END:VEVENT
END:VCALENDAR